BEGIN:VCALENDAR
VERSION:2.0
PRODID:-//Kids World #1 Indoor Playground &amp; Birthday Party Venue - ECPv6.15.20//NONSGML v1.0//EN
CALSCALE:GREGORIAN
METHOD:PUBLISH
X-WR-CALNAME:Kids World #1 Indoor Playground &amp; Birthday Party Venue
X-ORIGINAL-URL:https://kidsworldla.com
X-WR-CALDESC:Events for Kids World #1 Indoor Playground &amp; Birthday Party Venue
REFRESH-INTERVAL;VALUE=DURATION:PT1H
X-Robots-Tag:noindex
X-PUBLISHED-TTL:PT1H
BEGIN:VTIMEZONE
TZID:UTC
BEGIN:STANDARD
TZOFFSETFROM:+0000
TZOFFSETTO:+0000
TZNAME:UTC
DTSTART:20250101T000000
END:STANDARD
END:VTIMEZONE
BEGIN:VEVENT
DTSTART;VALUE=DATE:20260126
DTEND;VALUE=DATE:20260127
DTSTAMP:20260422T172003
CREATED:20260108T204059Z
LAST-MODIFIED:20260108T204059Z
UID:10000026-1769385600-1769471999@kidsworldla.com
SUMMARY:Yerba Buena Elementary Fundraiser (Open to the Public)
DESCRIPTION:Yerba Buena Elementary Fundraiser 10am-8pm. Kids World is open to the public. Mention YB Elementary during admission and a portion of the proceeds will go to the school. Email KidsWorld@kidsworldla.com to inquire about a fundraiser for your school or organization.
URL:https://kidsworldla.com/event/yerba-buena-elementary-fundraiser-open-to-the-public/
END:VEVENT
END:VCALENDAR