BEGIN:VCALENDAR
VERSION:2.0
PRODID:-//Kids World #1 Indoor Playground &amp; Birthday Party Venue - ECPv6.15.20//NONSGML v1.0//EN
CALSCALE:GREGORIAN
METHOD:PUBLISH
X-WR-CALNAME:Kids World #1 Indoor Playground &amp; Birthday Party Venue
X-ORIGINAL-URL:https://kidsworldla.com
X-WR-CALDESC:Events for Kids World #1 Indoor Playground &amp; Birthday Party Venue
REFRESH-INTERVAL;VALUE=DURATION:PT1H
X-Robots-Tag:noindex
X-PUBLISHED-TTL:PT1H
BEGIN:VTIMEZONE
TZID:UTC
BEGIN:STANDARD
TZOFFSETFROM:+0000
TZOFFSETTO:+0000
TZNAME:UTC
DTSTART:20240101T000000
END:STANDARD
END:VTIMEZONE
BEGIN:VEVENT
DTSTART;VALUE=DATE:20251225
DTEND;VALUE=DATE:20251226
DTSTAMP:20260422T164220
CREATED:20251126T162652Z
LAST-MODIFIED:20251126T162652Z
UID:10000022-1766620800-1766707199@kidsworldla.com
SUMMARY:CLOSED CHRISTMAS DAY
DESCRIPTION:Closed Christmas Day. Reopening Dec 26
URL:https://kidsworldla.com/event/closed-christmas-day/
END:VEVENT
END:VCALENDAR